BEGIN:VCALENDAR
VERSION:2.0
PRODID:-//IDI WorldWide - ECPv6.15.17.1//NONSGML v1.0//EN
CALSCALE:GREGORIAN
METHOD:PUBLISH
X-WR-CALNAME:IDI WorldWide
X-ORIGINAL-URL:https://idiworldwide.net
X-WR-CALDESC:Events for IDI WorldWide
REFRESH-INTERVAL;VALUE=DURATION:PT1H
X-Robots-Tag:noindex
X-PUBLISHED-TTL:PT1H
BEGIN:VTIMEZONE
TZID:UTC
BEGIN:STANDARD
TZOFFSETFROM:+0000
TZOFFSETTO:+0000
TZNAME:UTC
DTSTART:20250101T000000
END:STANDARD
END:VTIMEZONE
BEGIN:VEVENT
DTSTART;VALUE=DATE:20260420
DTEND;VALUE=DATE:20260425
DTSTAMP:20260424T093217
CREATED:20251028T121809Z
LAST-MODIFIED:20260216T065546Z
UID:5976-1776643200-1777075199@idiworldwide.net
SUMMARY:Public Procurement: Applying Rated Criteria
DESCRIPTION:This program equips professionals with the knowledge and tools to move beyond traditional lowest-price procurement methods. Participants will learn to design and implement evaluation frameworks that integrate rated criteria—such as quality\, sustainability\, and technical merit—ensuring more strategic\, transparent\, and value-driven procurement outcomes. Through practical insights and applied learning\, the course emphasizes how holistic evaluation can strengthen governance\, accountability\, and long-term impact in public procurement. \nFor more information\, please email or contact us at info@idiworldwide.net 
URL:https://idiworldwide.net/idi-events/public-procurement-applying-rated-criteria/
LOCATION:Dubai\, United Arab Emirates
CATEGORIES:Public Procurement Management
ATTACH;FMTTYPE=image/jpeg:https://idiworldwide.net/wp-content/uploads/2025/10/27.jpg
END:VEVENT
BEGIN:VEVENT
DTSTART;VALUE=DATE:20260511
DTEND;VALUE=DATE:20260516
DTSTAMP:20260424T093217
CREATED:20251029T072242Z
LAST-MODIFIED:20260216T065330Z
UID:5995-1778457600-1778889599@idiworldwide.net
SUMMARY:Sustainable and Green Public Procurement Strategies and Practices
DESCRIPTION:This training equips participants with the tools and methodologies to integrate environmental and social sustainability into procurement systems. Participants will learn to apply globally recognized frameworks\, such as MAPS (Methodology for Assessing Procurement Systems) and SDG-linked criteria\, to design procurement processes that promote responsible sourcing\, climate resilience\, and inclusive growth. The course emphasizes translating sustainability principles into actionable strategies that align with both organizational and global development objectives. \nFor more information\, please email or contact us at info@idiworldwide.net
URL:https://idiworldwide.net/idi-events/sustainable-and-green-public-procurement-strategies-and-practices/
LOCATION:Singapore
ATTACH;FMTTYPE=image/jpeg:https://idiworldwide.net/wp-content/uploads/2025/10/29.jpg
ORGANIZER;CN="IDI":MAILTO:training@idiworldwide.net
END:VEVENT
BEGIN:VEVENT
DTSTART;VALUE=DATE:20260615
DTEND;VALUE=DATE:20260621
DTSTAMP:20260424T093217
CREATED:20251029T070409Z
LAST-MODIFIED:20260216T063034Z
UID:5987-1781481600-1781999999@idiworldwide.net
SUMMARY:Strategic Use of e-GP for Public Procurement
DESCRIPTION:This program empowers procurement professionals to strategically utilize e-Government Procurement (e-GP) systems to enhance transparency\, efficiency\, and accountability in the procurement process. Participants will explore how e-GP can streamline workflows\, support small and medium enterprises (SMEs)\, and contribute to broader governance and development goals. The training also provides practical insights into leveraging data analytics and digital tools for smarter decision-making and improved procurement outcomes. \nFor more information\, please email or contact us at info@idiworldwide.net
URL:https://idiworldwide.net/idi-events/strategic-use-of-e-gp-for-public-procurement/
LOCATION:Nairobi\, Kenya
ATTACH;FMTTYPE=image/jpeg:https://idiworldwide.net/wp-content/uploads/2025/10/28.jpg
ORGANIZER;CN="IDI":MAILTO:training@idiworldwide.net
END:VEVENT
BEGIN:VEVENT
DTSTART;VALUE=DATE:20260810
DTEND;VALUE=DATE:20260816
DTSTAMP:20260424T093217
CREATED:20250127T203452Z
LAST-MODIFIED:20251112T103400Z
UID:5620-1786320000-1786838399@idiworldwide.net
SUMMARY:Port Authority Training
DESCRIPTION:With the majority of global trade carried by sea\, developing strong\, well-functioning maritime transport infrastructure is a key element of economic growth for many developing and emerging countries. Public-private partnerships (PPPs) in ports have become a means to manage port operations more effectively\, traditionally an exclusively government function. This program deals in-depth in new trends in port operations. The objective of the Port & Terminal Concessions Course is to enable participants to implement a successful long-term port Public Private Partnership by providing guidelines for an optimal tender process and sharing in depth knowledge on valuable\, bankable and enforceable port concession agreements. \nIntended Audience\nPort administrators\, finance directors\, procurement directors\, advisors\, project implementers and other professionals involved in ports management and operations will benefit from this program \nCourse Outline\nCourse Introduction & Organization\n\nPort Management Models\nContract Types\nRisk & Mitigation\n\nDesigning the Tender Process\n\nInstitutional Setting\nTender Options & Steps in the Tender Process\nQualification & Selection\nCase Example\n\nDrafting the Concession Agreement\n\nProject Contracts & Risks\nStructure of Concession Agreement\nMain Components of Concession Agreement\n\nManaging the Concession Agreement in Practice\n\nManaging the contract\, monitoring & enforcing\nWhat if things go wrong (Breach\, change in law etc.)\nTermination & Hand-back\nLesson Learnt from real-life cases
URL:https://idiworldwide.net/idi-events/port-concesions-negotiation-management-and-supervision/
CATEGORIES:Executive Leadership Program
ATTACH;FMTTYPE=image/jpeg:https://idiworldwide.net/wp-content/uploads/2025/01/Website-IMG-poster-1.jpg
ORGANIZER;CN="IDI":MAILTO:training@idiworldwide.net
END:VEVENT
BEGIN:VEVENT
DTSTART;VALUE=DATE:20260824
DTEND;VALUE=DATE:20260829
DTSTAMP:20260424T093217
CREATED:20251029T083425Z
LAST-MODIFIED:20260216T071337Z
UID:5997-1787529600-1787961599@idiworldwide.net
SUMMARY:Advanced Certificate Training on Public Procurement Monitoring and Audit
DESCRIPTION:This advanced program develops the analytical and oversight skills required to ensure integrity and value for money in public procurement. Participants will gain hands-on experience in procurement audit\, risk assessment\, and performance monitoring\, with a focus on identifying irregularities\, strengthening internal controls\, and promoting compliance in complex procurement environments. The course prepares professionals to safeguard public resources through evidence-based and transparent monitoring systems. \nFor more information\, please email or contact us at info@idiworldwide.net 
URL:https://idiworldwide.net/idi-events/advanced-certificate-training-on-public-procurement-monitoring-and-audit/
LOCATION:South Africa\, South Africa
ATTACH;FMTTYPE=image/jpeg:https://idiworldwide.net/wp-content/uploads/2025/10/30.jpg
ORGANIZER;CN="IDI":MAILTO:training@idiworldwide.net
END:VEVENT
BEGIN:VEVENT
DTSTART;VALUE=DATE:20260907
DTEND;VALUE=DATE:20260912
DTSTAMP:20260424T093217
CREATED:20251029T083653Z
LAST-MODIFIED:20251029T083653Z
UID:5999-1788739200-1789171199@idiworldwide.net
SUMMARY:Procurement of IT Systems and Software
DESCRIPTION:With the rapid digital transformation globally\, the procurement of IT systems and software has become increasingly critical and complex. This program provides participants with the expertise to navigate technical\, legal\, and financial dimensions of IT procurement. Through case-based learning\, participants will explore best practices for drafting clear specifications\, managing vendor performance\, ensuring interoperability\, and achieving cost-effective and secure digital solutions. \nFor more information\, please email or contact us at info@idiworldwide.net 
URL:https://idiworldwide.net/idi-events/procurement-of-it-systems-and-software/
ATTACH;FMTTYPE=image/jpeg:https://idiworldwide.net/wp-content/uploads/2025/10/31.jpg
END:VEVENT
BEGIN:VEVENT
DTSTART;VALUE=DATE:20261109
DTEND;VALUE=DATE:20261114
DTSTAMP:20260424T093217
CREATED:20251029T083755Z
LAST-MODIFIED:20251029T083918Z
UID:6001-1794182400-1794614399@idiworldwide.net
SUMMARY:Protection of National and Local Content Providers\, Small Business Set-Asides
DESCRIPTION:This program explores international best practices in promoting and protecting national and local content within public procurement systems. Participants will learn how governments can design policies and procurement frameworks that prioritize in-country goods\, works\, and services—thereby stimulating local industries\, generating employment\, and fostering inclusive economic growth. The course emphasizes balancing competitiveness with national development objectives through practical\, evidence-based approaches. \nFor more information\, please email or contact us at info@idiworldwide.net 
URL:https://idiworldwide.net/idi-events/protection-of-national-and-local-content-providers-small-business-set-asides/
ATTACH;FMTTYPE=image/jpeg:https://idiworldwide.net/wp-content/uploads/2025/10/32.jpg
END:VEVENT
END:VCALENDAR